BEGIN:VCALENDAR
VERSION:2.0
PRODID:-//Johannishus Gods - ECPv6.15.20//NONSGML v1.0//EN
CALSCALE:GREGORIAN
METHOD:PUBLISH
X-WR-CALNAME:Johannishus Gods
X-ORIGINAL-URL:https://johannishus.com
X-WR-CALDESC:Händelser för Johannishus Gods
REFRESH-INTERVAL;VALUE=DURATION:PT1H
X-Robots-Tag:noindex
X-PUBLISHED-TTL:PT1H
BEGIN:VTIMEZONE
TZID:Europe/Stockholm
BEGIN:DAYLIGHT
TZOFFSETFROM:+0100
TZOFFSETTO:+0200
TZNAME:CEST
DTSTART:20260329T010000
END:DAYLIGHT
BEGIN:STANDARD
TZOFFSETFROM:+0200
TZOFFSETTO:+0100
TZNAME:CET
DTSTART:20261025T010000
END:STANDARD
BEGIN:DAYLIGHT
TZOFFSETFROM:+0100
TZOFFSETTO:+0200
TZNAME:CEST
DTSTART:20270328T010000
END:DAYLIGHT
BEGIN:STANDARD
TZOFFSETFROM:+0200
TZOFFSETTO:+0100
TZNAME:CET
DTSTART:20271031T010000
END:STANDARD
BEGIN:DAYLIGHT
TZOFFSETFROM:+0100
TZOFFSETTO:+0200
TZNAME:CEST
DTSTART:20280326T010000
END:DAYLIGHT
BEGIN:STANDARD
TZOFFSETFROM:+0200
TZOFFSETTO:+0100
TZNAME:CET
DTSTART:20281029T010000
END:STANDARD
END:VTIMEZONE
BEGIN:VEVENT
DTSTART;TZID=Europe/Stockholm:20271001T140000
DTEND;TZID=Europe/Stockholm:20271001T170000
DTSTAMP:20260426T041335
CREATED:20250923T123549Z
LAST-MODIFIED:20260407T124250Z
UID:10001255-1822399200-1822410000@johannishus.com
SUMMARY:Öppet i gårdsbutik
DESCRIPTION:Välkommen till gårdsbutiken och utställningshallen på Johannishus Gods! \nGårdsbutik\nI vår gårdsbutik säljer vi viltkött som jagats från egna marker samt lamm- och nötkött från vårt ekologiska lantbruk. Vi erbjuder också ett mindre utbud av mat- och konsthantverk från våra vänner runt om i Blekinge. Under vår och sommar finns här också glass från Björketorps gård. \nVi har även en egen biodling samt ett bryggeri och säljer honung och öl så långt lagret räcker. I vår gårdsbutik kan du också köpa lammskinn från våra egna ekologiska lamm. \nUtställning\nJust nu visas ingen utställning.\nNästa planerade utställning är i samband med Konstrundan i Blekinge 2-3 maj. \nHitta hit\nDu hittar gårdsbutik och utställningshall mitt på gården (med ingång från långsidan på stora ladugården). Utställning och gårdsbutik har samma öppettider.\nAdress Möllerydsvägen 11 \nVälkommen!
URL:https://johannishus.com/event/oppet-i-gardsbutiken-5-2-2-2/2027-10-01/
LOCATION:Johannishus Gods\, Möllerydsvägen 11\, Johannishus\, 37295\, Sverige
ORGANIZER;CN="Johannishus Gods":MAILTO:info@johannishus.com
END:VEVENT
BEGIN:VEVENT
DTSTART;TZID=Europe/Stockholm:20271002T110000
DTEND;TZID=Europe/Stockholm:20271002T140000
DTSTAMP:20260426T041335
CREATED:20250923T123841Z
LAST-MODIFIED:20260407T123841Z
UID:10001014-1822474800-1822485600@johannishus.com
SUMMARY:Öppet i gårdsbutik
DESCRIPTION:Välkommen till gårdsbutik och utställningshall på Johannishus Gods! \nGårdsbutik\nI vår gårdsbutik säljer vi viltkött som jagats från egna marker samt lamm- och nötkött från vårt ekologiska lantbruk. Vi erbjuder också ett mindre utbud av mat- och konsthantverk från våra vänner runt om i Blekinge. Under vår och sommar finns här från Björketorps gård. \nVi har även biodling och bryggeri och säljer honung och öl så långt lagret räcker. I vår gårdsbutik kan du också köpa lammskinn från våra egna ekologiska lamm. \nUtställningshall\nJust nu visas ingen utställning.\nNästa planerade utställning är i samband med Konstrundan i Blekinge 2-3 maj. \nHitta hit\nDu hittar gårdsbutik och utställningshall mitt på gården (med ingång från långsidan på stora ladugården). Utställning och gårdsbutik har samma öppettider.\nAdress Möllerydsvägen 11 \nVälkommen!
URL:https://johannishus.com/event/oppet-i-gardsbutiken-2-2-2-2-2-2-3/2027-10-02/
LOCATION:Johannishus Gods\, Möllerydsvägen 11\, Johannishus\, 37295\, Sverige
ORGANIZER;CN="Johannishus Gods":MAILTO:info@johannishus.com
END:VEVENT
BEGIN:VEVENT
DTSTART;TZID=Europe/Stockholm:20271008T140000
DTEND;TZID=Europe/Stockholm:20271008T170000
DTSTAMP:20260426T041335
CREATED:20250923T123549Z
LAST-MODIFIED:20260407T124250Z
UID:10001256-1823004000-1823014800@johannishus.com
SUMMARY:Öppet i gårdsbutik
DESCRIPTION:Välkommen till gårdsbutiken och utställningshallen på Johannishus Gods! \nGårdsbutik\nI vår gårdsbutik säljer vi viltkött som jagats från egna marker samt lamm- och nötkött från vårt ekologiska lantbruk. Vi erbjuder också ett mindre utbud av mat- och konsthantverk från våra vänner runt om i Blekinge. Under vår och sommar finns här också glass från Björketorps gård. \nVi har även en egen biodling samt ett bryggeri och säljer honung och öl så långt lagret räcker. I vår gårdsbutik kan du också köpa lammskinn från våra egna ekologiska lamm. \nUtställning\nJust nu visas ingen utställning.\nNästa planerade utställning är i samband med Konstrundan i Blekinge 2-3 maj. \nHitta hit\nDu hittar gårdsbutik och utställningshall mitt på gården (med ingång från långsidan på stora ladugården). Utställning och gårdsbutik har samma öppettider.\nAdress Möllerydsvägen 11 \nVälkommen!
URL:https://johannishus.com/event/oppet-i-gardsbutiken-5-2-2-2/2027-10-08/
LOCATION:Johannishus Gods\, Möllerydsvägen 11\, Johannishus\, 37295\, Sverige
ORGANIZER;CN="Johannishus Gods":MAILTO:info@johannishus.com
END:VEVENT
BEGIN:VEVENT
DTSTART;TZID=Europe/Stockholm:20271009T110000
DTEND;TZID=Europe/Stockholm:20271009T140000
DTSTAMP:20260426T041335
CREATED:20250923T123841Z
LAST-MODIFIED:20260407T123841Z
UID:10001015-1823079600-1823090400@johannishus.com
SUMMARY:Öppet i gårdsbutik
DESCRIPTION:Välkommen till gårdsbutik och utställningshall på Johannishus Gods! \nGårdsbutik\nI vår gårdsbutik säljer vi viltkött som jagats från egna marker samt lamm- och nötkött från vårt ekologiska lantbruk. Vi erbjuder också ett mindre utbud av mat- och konsthantverk från våra vänner runt om i Blekinge. Under vår och sommar finns här från Björketorps gård. \nVi har även biodling och bryggeri och säljer honung och öl så långt lagret räcker. I vår gårdsbutik kan du också köpa lammskinn från våra egna ekologiska lamm. \nUtställningshall\nJust nu visas ingen utställning.\nNästa planerade utställning är i samband med Konstrundan i Blekinge 2-3 maj. \nHitta hit\nDu hittar gårdsbutik och utställningshall mitt på gården (med ingång från långsidan på stora ladugården). Utställning och gårdsbutik har samma öppettider.\nAdress Möllerydsvägen 11 \nVälkommen!
URL:https://johannishus.com/event/oppet-i-gardsbutiken-2-2-2-2-2-2-3/2027-10-09/
LOCATION:Johannishus Gods\, Möllerydsvägen 11\, Johannishus\, 37295\, Sverige
ORGANIZER;CN="Johannishus Gods":MAILTO:info@johannishus.com
END:VEVENT
BEGIN:VEVENT
DTSTART;TZID=Europe/Stockholm:20271015T140000
DTEND;TZID=Europe/Stockholm:20271015T170000
DTSTAMP:20260426T041335
CREATED:20250923T123549Z
LAST-MODIFIED:20260407T124250Z
UID:10001257-1823608800-1823619600@johannishus.com
SUMMARY:Öppet i gårdsbutik
DESCRIPTION:Välkommen till gårdsbutiken och utställningshallen på Johannishus Gods! \nGårdsbutik\nI vår gårdsbutik säljer vi viltkött som jagats från egna marker samt lamm- och nötkött från vårt ekologiska lantbruk. Vi erbjuder också ett mindre utbud av mat- och konsthantverk från våra vänner runt om i Blekinge. Under vår och sommar finns här också glass från Björketorps gård. \nVi har även en egen biodling samt ett bryggeri och säljer honung och öl så långt lagret räcker. I vår gårdsbutik kan du också köpa lammskinn från våra egna ekologiska lamm. \nUtställning\nJust nu visas ingen utställning.\nNästa planerade utställning är i samband med Konstrundan i Blekinge 2-3 maj. \nHitta hit\nDu hittar gårdsbutik och utställningshall mitt på gården (med ingång från långsidan på stora ladugården). Utställning och gårdsbutik har samma öppettider.\nAdress Möllerydsvägen 11 \nVälkommen!
URL:https://johannishus.com/event/oppet-i-gardsbutiken-5-2-2-2/2027-10-15/
LOCATION:Johannishus Gods\, Möllerydsvägen 11\, Johannishus\, 37295\, Sverige
ORGANIZER;CN="Johannishus Gods":MAILTO:info@johannishus.com
END:VEVENT
BEGIN:VEVENT
DTSTART;TZID=Europe/Stockholm:20271016T110000
DTEND;TZID=Europe/Stockholm:20271016T140000
DTSTAMP:20260426T041335
CREATED:20250923T123841Z
LAST-MODIFIED:20260407T123841Z
UID:10001016-1823684400-1823695200@johannishus.com
SUMMARY:Öppet i gårdsbutik
DESCRIPTION:Välkommen till gårdsbutik och utställningshall på Johannishus Gods! \nGårdsbutik\nI vår gårdsbutik säljer vi viltkött som jagats från egna marker samt lamm- och nötkött från vårt ekologiska lantbruk. Vi erbjuder också ett mindre utbud av mat- och konsthantverk från våra vänner runt om i Blekinge. Under vår och sommar finns här från Björketorps gård. \nVi har även biodling och bryggeri och säljer honung och öl så långt lagret räcker. I vår gårdsbutik kan du också köpa lammskinn från våra egna ekologiska lamm. \nUtställningshall\nJust nu visas ingen utställning.\nNästa planerade utställning är i samband med Konstrundan i Blekinge 2-3 maj. \nHitta hit\nDu hittar gårdsbutik och utställningshall mitt på gården (med ingång från långsidan på stora ladugården). Utställning och gårdsbutik har samma öppettider.\nAdress Möllerydsvägen 11 \nVälkommen!
URL:https://johannishus.com/event/oppet-i-gardsbutiken-2-2-2-2-2-2-3/2027-10-16/
LOCATION:Johannishus Gods\, Möllerydsvägen 11\, Johannishus\, 37295\, Sverige
ORGANIZER;CN="Johannishus Gods":MAILTO:info@johannishus.com
END:VEVENT
BEGIN:VEVENT
DTSTART;TZID=Europe/Stockholm:20271022T140000
DTEND;TZID=Europe/Stockholm:20271022T170000
DTSTAMP:20260426T041335
CREATED:20250923T123549Z
LAST-MODIFIED:20260407T124250Z
UID:10001258-1824213600-1824224400@johannishus.com
SUMMARY:Öppet i gårdsbutik
DESCRIPTION:Välkommen till gårdsbutiken och utställningshallen på Johannishus Gods! \nGårdsbutik\nI vår gårdsbutik säljer vi viltkött som jagats från egna marker samt lamm- och nötkött från vårt ekologiska lantbruk. Vi erbjuder också ett mindre utbud av mat- och konsthantverk från våra vänner runt om i Blekinge. Under vår och sommar finns här också glass från Björketorps gård. \nVi har även en egen biodling samt ett bryggeri och säljer honung och öl så långt lagret räcker. I vår gårdsbutik kan du också köpa lammskinn från våra egna ekologiska lamm. \nUtställning\nJust nu visas ingen utställning.\nNästa planerade utställning är i samband med Konstrundan i Blekinge 2-3 maj. \nHitta hit\nDu hittar gårdsbutik och utställningshall mitt på gården (med ingång från långsidan på stora ladugården). Utställning och gårdsbutik har samma öppettider.\nAdress Möllerydsvägen 11 \nVälkommen!
URL:https://johannishus.com/event/oppet-i-gardsbutiken-5-2-2-2/2027-10-22/
LOCATION:Johannishus Gods\, Möllerydsvägen 11\, Johannishus\, 37295\, Sverige
ORGANIZER;CN="Johannishus Gods":MAILTO:info@johannishus.com
END:VEVENT
BEGIN:VEVENT
DTSTART;TZID=Europe/Stockholm:20271023T110000
DTEND;TZID=Europe/Stockholm:20271023T140000
DTSTAMP:20260426T041335
CREATED:20250923T123841Z
LAST-MODIFIED:20260407T123841Z
UID:10001017-1824289200-1824300000@johannishus.com
SUMMARY:Öppet i gårdsbutik
DESCRIPTION:Välkommen till gårdsbutik och utställningshall på Johannishus Gods! \nGårdsbutik\nI vår gårdsbutik säljer vi viltkött som jagats från egna marker samt lamm- och nötkött från vårt ekologiska lantbruk. Vi erbjuder också ett mindre utbud av mat- och konsthantverk från våra vänner runt om i Blekinge. Under vår och sommar finns här från Björketorps gård. \nVi har även biodling och bryggeri och säljer honung och öl så långt lagret räcker. I vår gårdsbutik kan du också köpa lammskinn från våra egna ekologiska lamm. \nUtställningshall\nJust nu visas ingen utställning.\nNästa planerade utställning är i samband med Konstrundan i Blekinge 2-3 maj. \nHitta hit\nDu hittar gårdsbutik och utställningshall mitt på gården (med ingång från långsidan på stora ladugården). Utställning och gårdsbutik har samma öppettider.\nAdress Möllerydsvägen 11 \nVälkommen!
URL:https://johannishus.com/event/oppet-i-gardsbutiken-2-2-2-2-2-2-3/2027-10-23/
LOCATION:Johannishus Gods\, Möllerydsvägen 11\, Johannishus\, 37295\, Sverige
ORGANIZER;CN="Johannishus Gods":MAILTO:info@johannishus.com
END:VEVENT
BEGIN:VEVENT
DTSTART;TZID=Europe/Stockholm:20271029T140000
DTEND;TZID=Europe/Stockholm:20271029T170000
DTSTAMP:20260426T041335
CREATED:20250923T123549Z
LAST-MODIFIED:20260407T124250Z
UID:10001259-1824818400-1824829200@johannishus.com
SUMMARY:Öppet i gårdsbutik
DESCRIPTION:Välkommen till gårdsbutiken och utställningshallen på Johannishus Gods! \nGårdsbutik\nI vår gårdsbutik säljer vi viltkött som jagats från egna marker samt lamm- och nötkött från vårt ekologiska lantbruk. Vi erbjuder också ett mindre utbud av mat- och konsthantverk från våra vänner runt om i Blekinge. Under vår och sommar finns här också glass från Björketorps gård. \nVi har även en egen biodling samt ett bryggeri och säljer honung och öl så långt lagret räcker. I vår gårdsbutik kan du också köpa lammskinn från våra egna ekologiska lamm. \nUtställning\nJust nu visas ingen utställning.\nNästa planerade utställning är i samband med Konstrundan i Blekinge 2-3 maj. \nHitta hit\nDu hittar gårdsbutik och utställningshall mitt på gården (med ingång från långsidan på stora ladugården). Utställning och gårdsbutik har samma öppettider.\nAdress Möllerydsvägen 11 \nVälkommen!
URL:https://johannishus.com/event/oppet-i-gardsbutiken-5-2-2-2/2027-10-29/
LOCATION:Johannishus Gods\, Möllerydsvägen 11\, Johannishus\, 37295\, Sverige
ORGANIZER;CN="Johannishus Gods":MAILTO:info@johannishus.com
END:VEVENT
BEGIN:VEVENT
DTSTART;TZID=Europe/Stockholm:20271030T110000
DTEND;TZID=Europe/Stockholm:20271030T140000
DTSTAMP:20260426T041335
CREATED:20250923T123841Z
LAST-MODIFIED:20260407T123841Z
UID:10001018-1824894000-1824904800@johannishus.com
SUMMARY:Öppet i gårdsbutik
DESCRIPTION:Välkommen till gårdsbutik och utställningshall på Johannishus Gods! \nGårdsbutik\nI vår gårdsbutik säljer vi viltkött som jagats från egna marker samt lamm- och nötkött från vårt ekologiska lantbruk. Vi erbjuder också ett mindre utbud av mat- och konsthantverk från våra vänner runt om i Blekinge. Under vår och sommar finns här från Björketorps gård. \nVi har även biodling och bryggeri och säljer honung och öl så långt lagret räcker. I vår gårdsbutik kan du också köpa lammskinn från våra egna ekologiska lamm. \nUtställningshall\nJust nu visas ingen utställning.\nNästa planerade utställning är i samband med Konstrundan i Blekinge 2-3 maj. \nHitta hit\nDu hittar gårdsbutik och utställningshall mitt på gården (med ingång från långsidan på stora ladugården). Utställning och gårdsbutik har samma öppettider.\nAdress Möllerydsvägen 11 \nVälkommen!
URL:https://johannishus.com/event/oppet-i-gardsbutiken-2-2-2-2-2-2-3/2027-10-30/
LOCATION:Johannishus Gods\, Möllerydsvägen 11\, Johannishus\, 37295\, Sverige
ORGANIZER;CN="Johannishus Gods":MAILTO:info@johannishus.com
END:VEVENT
END:VCALENDAR