BEGIN:VCALENDAR
VERSION:2.0
PRODID:-//Johannishus Gods - ECPv6.15.20//NONSGML v1.0//EN
CALSCALE:GREGORIAN
METHOD:PUBLISH
X-ORIGINAL-URL:https://johannishus.com
X-WR-CALDESC:Händelser för Johannishus Gods
REFRESH-INTERVAL;VALUE=DURATION:PT1H
X-Robots-Tag:noindex
X-PUBLISHED-TTL:PT1H
BEGIN:VTIMEZONE
TZID:Europe/Stockholm
BEGIN:DAYLIGHT
TZOFFSETFROM:+0100
TZOFFSETTO:+0200
TZNAME:CEST
DTSTART:20250330T010000
END:DAYLIGHT
BEGIN:STANDARD
TZOFFSETFROM:+0200
TZOFFSETTO:+0100
TZNAME:CET
DTSTART:20251026T010000
END:STANDARD
BEGIN:DAYLIGHT
TZOFFSETFROM:+0100
TZOFFSETTO:+0200
TZNAME:CEST
DTSTART:20260329T010000
END:DAYLIGHT
BEGIN:STANDARD
TZOFFSETFROM:+0200
TZOFFSETTO:+0100
TZNAME:CET
DTSTART:20261025T010000
END:STANDARD
BEGIN:DAYLIGHT
TZOFFSETFROM:+0100
TZOFFSETTO:+0200
TZNAME:CEST
DTSTART:20270328T010000
END:DAYLIGHT
BEGIN:STANDARD
TZOFFSETFROM:+0200
TZOFFSETTO:+0100
TZNAME:CET
DTSTART:20271031T010000
END:STANDARD
END:VTIMEZONE
BEGIN:VEVENT
DTSTART;TZID=Europe/Stockholm:20260502T100000
DTEND;TZID=Europe/Stockholm:20260502T170000
DTSTAMP:20260424T171713
CREATED:20250326T121247Z
LAST-MODIFIED:20260410T132528Z
UID:10001664-1777716000-1777741200@johannishus.com
SUMMARY:Konstrundan i Blekinge
DESCRIPTION:Den 2 och 3 maj landar Konstrundan i Blekinge i vår utställningshall. Då visar fyra konstnärer från Blekinge sin konst och vi håller öppet i gårdsbutik och vår ”viltkorvkiosk”. \nÖppettider\nLördag 2 maj\, kl 10-17\nSöndag 3 maj\, kl. 10-17 \nMedverkande konstnärer \n\nMalin Altenby Larsen\nAnna Hörjel\nKristina Höglund\nLinda Sjunnesson\n\nLäs mer om Konstrundan i Blekinge här.  \nGårdsbutik & ”korvkiosk”\nVår gårdsbutik är öppen samma tider som utställningen. Vi säljer vår egen grillad viltkorv med korvbröd från Café Mandeltårtan och kaffe/dricka. \nVarmt välkommen! \n  \n 
URL:https://johannishus.com/event/konstrunda-i-blekinge/
ORGANIZER;CN="Johannishus Gods":MAILTO:info@johannishus.com
END:VEVENT
END:VCALENDAR