BEGIN:VCALENDAR
VERSION:2.0
PRODID:-//Johannishus Gods - ECPv6.15.20//NONSGML v1.0//EN
CALSCALE:GREGORIAN
METHOD:PUBLISH
X-WR-CALNAME:Johannishus Gods
X-ORIGINAL-URL:https://johannishus.com
X-WR-CALDESC:Händelser för Johannishus Gods
REFRESH-INTERVAL;VALUE=DURATION:PT1H
X-Robots-Tag:noindex
X-PUBLISHED-TTL:PT1H
BEGIN:VTIMEZONE
TZID:Europe/Stockholm
BEGIN:DAYLIGHT
TZOFFSETFROM:+0100
TZOFFSETTO:+0200
TZNAME:CEST
DTSTART:20240331T010000
END:DAYLIGHT
BEGIN:STANDARD
TZOFFSETFROM:+0200
TZOFFSETTO:+0100
TZNAME:CET
DTSTART:20241027T010000
END:STANDARD
BEGIN:DAYLIGHT
TZOFFSETFROM:+0100
TZOFFSETTO:+0200
TZNAME:CEST
DTSTART:20250330T010000
END:DAYLIGHT
BEGIN:STANDARD
TZOFFSETFROM:+0200
TZOFFSETTO:+0100
TZNAME:CET
DTSTART:20251026T010000
END:STANDARD
BEGIN:DAYLIGHT
TZOFFSETFROM:+0100
TZOFFSETTO:+0200
TZNAME:CEST
DTSTART:20260329T010000
END:DAYLIGHT
BEGIN:STANDARD
TZOFFSETFROM:+0200
TZOFFSETTO:+0100
TZNAME:CET
DTSTART:20261025T010000
END:STANDARD
END:VTIMEZONE
BEGIN:VEVENT
DTSTART;TZID=Europe/Stockholm:20250913T100000
DTEND;TZID=Europe/Stockholm:20250913T160000
DTSTAMP:20260424T190517
CREATED:20250825T065205Z
LAST-MODIFIED:20250912T065647Z
UID:10001589-1757757600-1757779200@johannishus.com
SUMMARY:Välkommen på gårdsbutiksrunda
DESCRIPTION:Välkommen till årets gårdsbutiksrunda! \nHelgen den 13 och 14 september bjuder vi in till Gårdsbutiksrundan i Blekinge med extra öppettider och fina erbjudanden i butiken. Då öppnar mer än 45 gårdsbutiker\, över hela Blekinge\, upp sina dörrar och bjuder in till smakupplevelser\, mathantverk och lantlig charm. \nHär hittar du mer information om Gårdsbutiksrundan i Blekinge. \nÖppettider\nLördag & söndag\, 13-14/9\, kl. 10-16 \nKorvgrillning\nUnder helgen tänder vi grillen och säljer vår egen viltgrillkorv med nybakat bröd från Mandeltårtan.\nGrillen är öppen från kl. 10:30-15:30. \nUtställning\nNu visar vi utställningen ”Anteckningar om ljus och mörker” av Jenny Carlsson Grip och Simon deBrée\, som visas i vår utställningshall och stenlada. \nHitta hit och parkering\nSväng av mot skylt med gårdsbutik från Johannishus/Tvingvägen.\nSväng in höger vid slottet (skylt med gårdsbutik).\nKör förbi gårdsbutiken och parkera utmed ladorna vid gårdsplanen (skyltat med P). \n\nParkering finns det gott om men vi vill gärna att ni parkerar efter våra p-skyltar. Tack! \n​För att undvika möten på smala vägar kör in via slottet och ut via Möllerydsvägen. Finns skyltat mot utfart vid parkeringen.\n\nVarmt välkommen!
URL:https://johannishus.com/event/gardsbutiksrunda/2025-09-13/
END:VEVENT
END:VCALENDAR